BEGIN:VCALENDAR
VERSION:2.0
PRODID:-//Ajuntament de Potries - ECPv4.6.26.1//NONSGML v1.0//EN
CALSCALE:GREGORIAN
METHOD:PUBLISH
X-WR-CALNAME:Ajuntament de Potries
X-ORIGINAL-URL:https://potries.org
X-WR-CALDESC:Events for Ajuntament de Potries
BEGIN:VEVENT
DTSTART;TZID=UTC+2:20200626T080000
DTEND;TZID=UTC+2:20200626T170000
DTSTAMP:20260420T041616
CREATED:20200626T103230Z
LAST-MODIFIED:20200626T103230Z
UID:20787-1593158400-1593190800@potries.org
SUMMARY:prova
DESCRIPTION:\n\n\n\n\n\n\n \n\nACTIVITAT  \n02.07.20 – L’Òpera torna a Potries: El Tutor Burlat.\n\nEstem encantats amb aquesta notícia: L’Òpera torna a #Potries 🗣😍 “El tutor burlat”\, a càrrec de GVA Cultura – Palau de les Arts. El 2 de juliol\, a les 22:00\, al Recinte Firal. Serà una òpera molt divertida amb…\n\n\n\n\n\n\n\n\n\n
URL:https://potries.org/event/prova/
CATEGORIES:Activitats
ATTACH;FMTTYPE=image/jpeg:https://potries.org/wp-content/uploads/2020/06/tutorburlat-e1593158927501.jpg
END:VEVENT
END:VCALENDAR