BEGIN:VCALENDAR
VERSION:2.0
PRODID:-//Ajuntament de Potries - ECPv4.6.26.1//NONSGML v1.0//EN
CALSCALE:GREGORIAN
METHOD:PUBLISH
X-WR-CALNAME:Ajuntament de Potries
X-ORIGINAL-URL:https://potries.org
X-WR-CALDESC:Events for Ajuntament de Potries
BEGIN:VEVENT
DTSTART;TZID=UTC+2:20190108T110000
DTEND;TZID=UTC+2:20190625T120000
DTSTAMP:20260419T233100
CREATED:20181228T083314Z
LAST-MODIFIED:20181228T084037Z
UID:12939-1546945200-1561464000@potries.org
SUMMARY:CLASES DE YOGA
DESCRIPTION:Desde el martes 8 de enero de 2019\, hasta junio\, cada martes de 11 a 12 h\, en la Casa de la Cultura de Potries\, se impartirán clases de yoga. \nVen y mejora tu vitalidad\, fuerza\, flexibilidad y equilibrio. Elimina tensiones corporales y con atención a la respiración y la postura con estiramientos y relajaciones\, encontrarás más estabilidad física y mental. \n \n
URL:https://potries.org/event/clases-de-yoga/
CATEGORIES:ACTIVIDAD
ATTACH;FMTTYPE=image/jpeg:https://potries.org/wp-content/uploads/2018/12/cartell-IOGA-rectificat.jpg
END:VEVENT
BEGIN:VEVENT
DTSTART;TZID=UTC+2:20190427T100000
DTEND;TZID=UTC+2:20190427T203000
DTSTAMP:20260419T233100
CREATED:20190402T070329Z
LAST-MODIFIED:20190402T070329Z
UID:14398-1556359200-1556397000@potries.org
SUMMARY:IV Jornades Lluita Camperola "Obradors compartits: cap a la sobirania alimentària"
DESCRIPTION:
URL:https://potries.org/event/iv-jornades-lluita-camperola-obradors-compartits-cap-a-la-sobirania-alimentaria-2/
CATEGORIES:ACTIVIDAD,Activitats,EVENT
END:VEVENT
BEGIN:VEVENT
DTSTART;TZID=UTC+2:20190427T110000
DTEND;TZID=UTC+2:20190427T170000
DTSTAMP:20260419T233100
CREATED:20190423T162739Z
LAST-MODIFIED:20190424T065800Z
UID:14512-1556362800-1556384400@potries.org
SUMMARY:PASSEJADA HISTÒRIA LOCAL I DINAR POPULAR
DESCRIPTION:\nEl proper dissabte 27 d’abril a les 11:00 h tindrà lloc una passejada d’història local a càrrec de l’Associació de Jubilats i Pensionistes de Potries\, l’eixida serà a la plaça de l’Església. \n A les 14:00 h tindrà lloc a la plaça del País Valencià un dinar popular a càrrec de la Comissió de Festes\, hi haurà calçots i coques de dacsa. \n  \nEl próximo sábado 27 de abril a las 11:00 h tendrá lugar un paseo de historia local a cargo de la Asociación de Jubilados y Pensionistas de Potries\, la salida estará en la plaza de la Iglesia. \nA las 14:00 h tendrá lugar en la plaza del País Valenciano una comida popular a cargo de la Comisión de Fiestas\, habrá calçots y cocas de maíz. \n  \nNext Saturday\, April 27 at 11:00 a local history walk will take place in charge of the Association of Retired and Pensioners of Potries\, the exit will be in the Church Square. \nAt 2:00 pm a popular meal will be held in the  País Valencià Square by the Fiestas Commission\, there will be calçots and corn cokes. \n\n
URL:https://potries.org/event/dissabte-27-dabril/
CATEGORIES:ACTIVIDAD,Activitats,EVENT
ATTACH;FMTTYPE=image/jpeg:https://potries.org/wp-content/uploads/2019/04/Copia-de-Bottles.jpg
END:VEVENT
END:VCALENDAR