BEGIN:VCALENDAR
VERSION:2.0
PRODID:-//Ajuntament de Potries - ECPv4.6.26.1//NONSGML v1.0//EN
CALSCALE:GREGORIAN
METHOD:PUBLISH
X-WR-CALNAME:Ajuntament de Potries
X-ORIGINAL-URL:https://potries.org
X-WR-CALDESC:Events for Ajuntament de Potries
BEGIN:VEVENT
DTSTART;TZID=UTC+2:20181108T120000
DTEND;TZID=UTC+2:20181125T170000
DTSTAMP:20260419T202631
CREATED:20181102T081050Z
LAST-MODIFIED:20181102T082437Z
UID:11789-1541678400-1543165200@potries.org
SUMMARY:Més enllà de l’objecte: Narratives codificades.
DESCRIPTION:La colección de Arte Contemporáneo de la Generalitat Valenciana se traslada a Potries (Capital Cultural Valenciana CCV). El principal objetivo de esta exposición es mostrar las obras de arte contemporáneo adquiridas por la Generalitat Valenciana. Se trata de un primer acercamiento\, por este motivo se denomina “Primeros Momentos” que aporta una visión general del panorama artístico contemporáneo existente en la Comunidad Valenciana. \nPRIMER CICLO – 8 al 25 noviembre \nMás allá del objeto: Narrativas codificadas. \nEste ciclo está relacionado con la palabra y de nuevas formas de comunicarnos\, teniendo en cuenta los avances tecnológicos. La evolución de la tecnología ha provocado cambios en el ámbito social que afectan al individuo y a su forma de comunicarse y replantearse algunos valores. Con estas obras se muestra esta realidad\, de como la palabra se traslada a otros formatos a los cuales no estamos acostumbrados y en otras ocasiones\, se omite para acentuar su fuerza comunicativa. \nObras que se expondrán en Potries: \n– El bolsón de la palabras de Teresa Cebrián. En la planta baja del “Museu Cassoleria d’Àngel Domínguez”.\n– El valor de las palabras de Mar Arza. En la planta baja del “Museu Cassoleria d’Àngel Domínguez”.\n– Be careful what you wish for… de Xavier Monsalvatje. En el primer piso del “Museu Cassoleria d’Àngel Domínguez”. \n
URL:https://potries.org/event/mes-enlla-de-lobjecte-narratives-codificades-cast/
LOCATION:Museu Cassoleria d’Àngel Domínguez\, Carrer Cup 6\, Potries\, Valencia\, 46721\, España
CATEGORIES:ACTIVIDAD
ATTACH;FMTTYPE=image/jpeg:https://potries.org/wp-content/uploads/2018/10/destacada-expo-art.jpg
END:VEVENT
BEGIN:VEVENT
DTSTART;TZID=UTC+2:20181116T200000
DTEND;TZID=UTC+2:20181116T210000
DTSTAMP:20260419T202631
CREATED:20181019T092755Z
LAST-MODIFIED:20181102T113656Z
UID:11546-1542398400-1542402000@potries.org
SUMMARY:PROYECCIÓN DOCUMENTAL: "SAVIS DE L'HORTA"
DESCRIPTION:El divendres 16 de novembre\, a les 20.00 h\, en la Casa de la Cultura\, es projectarà Savis de l’horta\,  un curtmetratge documental que posa la lent en la bellesa i el coneixement dels llauradors i les llauradores valencianes. I és que per massa temps la gent del camp ha sigut  menyspreada. És ara\, en una època de crisi\, de canvis i convulsions\, quan és més urgent escoltar la veu dels nostres majors. \nTambé tindrà lloc\, conferència i col·loqui amb l’autor del documental\, David Segarra. \n \n
URL:https://potries.org/event/proyeccion-documental-savis-de-lhorta/
LOCATION:Casa de la Cultura\, Jaume I\, 59\, Potries\, Valencia\, 46721\, España
CATEGORIES:ACTIVIDAD,EVENT
ATTACH;FMTTYPE=image/jpeg:https://potries.org/wp-content/uploads/2018/10/destacada-docu-1.jpg
END:VEVENT
END:VCALENDAR