BEGIN:VCALENDAR
VERSION:2.0
PRODID:-//Ajuntament de Potries - ECPv4.6.26.1//NONSGML v1.0//EN
CALSCALE:GREGORIAN
METHOD:PUBLISH
X-WR-CALNAME:Ajuntament de Potries
X-ORIGINAL-URL:https://potries.org
X-WR-CALDESC:Events for Ajuntament de Potries
BEGIN:VEVENT
DTSTART;VALUE=DATE:20181102
DTEND;VALUE=DATE:20181103
DTSTAMP:20260420T175055
CREATED:20181008T102033Z
LAST-MODIFIED:20181030T092014Z
UID:11166-1541116800-1541203199@potries.org
SUMMARY:EXCURSIÓ A COFRENTS
DESCRIPTION:La junta directiva dels jubilats i pensionistes\, informa: \nQue el divendres 2 de novembre\,  es farà una excursió a Cofrents i Jornada Gastronòmica. El cost és de 20€. \nPer a més informació i per apuntar-se passar a partir del dilluns 8 d’octubre pel local de 17:30 a 20:00 h. de la vesprada. \nL’últim dia és el diumenge 28 d’octubre. Places limitades. \n \n  \n
URL:https://potries.org/event/excursio-a-cofrents/
LOCATION:Cofrents\, Cofrents\, España
CATEGORIES:ACTIVIDAD,Activitats,EVENT
ATTACH;FMTTYPE=image/jpeg:https://potries.org/wp-content/uploads/2018/10/cofrents.jpg
END:VEVENT
BEGIN:VEVENT
DTSTART;TZID=UTC+2:20181102T200000
DTEND;TZID=UTC+2:20181104T200000
DTSTAMP:20260420T175055
CREATED:20181030T092427Z
LAST-MODIFIED:20181030T101613Z
UID:11682-1541188800-1541361600@potries.org
SUMMARY:PRIMER APLEC ECOLOGISTA
DESCRIPTION:Primer Aplec Ecologista a Potries #AplecEcoPotries. Començarà el divendres 2 de novembre a les 20.00 h de la vesprada\, i finalitzarà el diumenge 4 de novembre\, després de la projecció del documental “Tot canvi comença a l’escola”. A la imatge adjunta podreu consultar tots els esdeveniments programats. \n \n
URL:https://potries.org/event/primer-aplec-ecologista/
CATEGORIES:ACTIVIDAD,Activitats,EVENT
ATTACH;FMTTYPE=image/jpeg:https://potries.org/wp-content/uploads/2018/10/aplec-destacada.jpg
END:VEVENT
END:VCALENDAR