BEGIN:VCALENDAR
VERSION:2.0
PRODID:-//Ajuntament de Potries - ECPv4.6.26.1//NONSGML v1.0//EN
CALSCALE:GREGORIAN
METHOD:PUBLISH
X-WR-CALNAME:Ajuntament de Potries
X-ORIGINAL-URL:https://potries.org
X-WR-CALDESC:Events for Ajuntament de Potries
BEGIN:VEVENT
DTSTART;TZID=UTC+2:20181029T120000
DTEND;TZID=UTC+2:20181029T133000
DTSTAMP:20260420T235130
CREATED:20180926T080732Z
LAST-MODIFIED:20181011T094733Z
UID:10957-1540814400-1540819800@potries.org
SUMMARY:PLENARI A POTRIES: CONSELL VALENCIÀ DE CULTURA
DESCRIPTION:L’Ajuntament de Potries va convidar al Consell Valencià de Cultura a realitzar una reunió del Ple al municipi de Potries dins de l’any de la nostra Capitalitat Cultural Valenciana i aquesta institució va acceptar gustosament la seua invitació. \nLa pròxima reunió del Consell Valencià de Cultura se celebrarà en el dia 29 d’octubre a Potries\, reunint-se al saló de Plenaris de l’Ajuntament de Potries a les 12 del migdia. \n \n  \n
URL:https://potries.org/event/plenari-a-potries-consell-valencia-de-cultura/
LOCATION:Saló de plenaris\, Carrer Boamit\, Potries\, Valencia\, 46721\, España
CATEGORIES:ACTIVIDAD,Activitats,EVENT
ATTACH;FMTTYPE=image/jpeg:https://potries.org/wp-content/uploads/2018/09/gva-consell-plenari-destacada.jpg
END:VEVENT
END:VCALENDAR