BEGIN:VCALENDAR
VERSION:2.0
PRODID:-//Ajuntament de Potries - ECPv4.6.26.1//NONSGML v1.0//EN
CALSCALE:GREGORIAN
METHOD:PUBLISH
X-WR-CALNAME:Ajuntament de Potries
X-ORIGINAL-URL:https://potries.org
X-WR-CALDESC:Events for Ajuntament de Potries
BEGIN:VEVENT
DTSTART;TZID=UTC+2:20181006T190000
DTEND;TZID=UTC+2:20181027T190000
DTSTAMP:20260421T025336
CREATED:20180921T123432Z
LAST-MODIFIED:20181003T072629Z
UID:10843-1538852400-1540666800@potries.org
SUMMARY:EXPO JERE: PINTURA I ESCULTURA
DESCRIPTION:Inauguració de l’exposició de Jere\, de pintura i escultura\, a la casa de l’ajuntament de Potries\, dissabte 6 d’octubre a les 19.00 h. \nParlem de Jere:\nL’art contemporani agraeix propostes que s’acosten a l’espectador\, que siguen clares\, sinceres\, sense colorants ni edulcorants. L’obra de Jere és així. El seu treball de caràcter costumista serveix per trencar barreres amb qui veu i percep la seva obra.\nInsuflar vida a un material com pot ser el bronze\, el fang\, etc.\, o plasmar-ho en pintura sobre un suport\, és un pas important per a qualsevol escultor o pintor. Però Jere va més enllà. Jere és l’artista que domina les formes\, els moviments\, les textures i sobretot la tècnica.\nFa seu el material\, sigua el que sigua\, i el més important ho dota de concepte\, de missatge. Aquesta quotidianitat\, diríem escalfor mediterrània\, és la que sabem valorar i admirar.\nEn un to metafòric l’obra de Jere es deixa tocar\, s’escolta\, s’assaboreix. En un món cada vegada més artificial tot allò que és proximitat\, que ens connecta amb les arrels i la nostra identitat és allò que no hem de perdre de vista per que per sobre de tot ens humanitza.\nPlató en el seu mite de la caverna parla de les tenebres i la llum. La mateixa llum que ha buscat Jere i l’ha guiat a fer un treball ple de frescor i creativitat. Aquest far l’ha portat a consagrar-se entre els grans mestres de l’escultura i la pintura costumista del nostre País. \nÀlvar Sáez Puig.\nHistoriador de l’Art. \nBarcelona \n \n
URL:https://potries.org/event/expo-jere-pintura-i-escultura/
LOCATION:Plaça Ajuntament
CATEGORIES:ACTIVIDAD,Activitats,EVENT
ATTACH;FMTTYPE=image/jpeg:https://potries.org/wp-content/uploads/2018/09/miniatura-jere.jpg
END:VEVENT
END:VCALENDAR