BEGIN:VCALENDAR
VERSION:2.0
PRODID:-//Ajuntament de Potries - ECPv4.6.26.1//NONSGML v1.0//EN
CALSCALE:GREGORIAN
METHOD:PUBLISH
X-WR-CALNAME:Ajuntament de Potries
X-ORIGINAL-URL:https://potries.org
X-WR-CALDESC:Events for Ajuntament de Potries
BEGIN:VEVENT
DTSTART;TZID=UTC+2:20181005T210000
DTEND;TZID=UTC+2:20181005T223000
DTSTAMP:20260424T090318
CREATED:20180921T122613Z
LAST-MODIFIED:20180924T124733Z
UID:10836-1538773200-1538778600@potries.org
SUMMARY:TEATRE DE BUTXACA - ESPILL
DESCRIPTION:Entrada solidària a Potries: 2 €. Aforament limitat: 90 persones. Entrades a la venda a partir de dissabte 29 de setembre. Punts de venda al museu i la comissió veïnal. \nEspill\, de Jaume Roig\, és una de les peces més importants de la literatura medieval a València. L’adaptació de Crit\, companyia de teatre\, a partir de l’original\, ha donat veu i cos als diversos personatges que formen part de l’univers del narrador. Un espectacle molt fresc\, divertit i atrevit que ens aproxima a una de les novel·les més brillants i destarifades de la nostra literatura i que posa damunt la taula els conflictes de gènere des de l’Edat Mitjana fins als nostres dies. \n \n
URL:https://potries.org/event/teatre-de-butxaca-espill/
LOCATION:Casa de la Cultura\, Jaume I\, 59\, Potries\, Valencia\, 46721\, España
CATEGORIES:ACTIVIDAD,Activitats,EVENT
ATTACH;FMTTYPE=image/jpeg:https://potries.org/wp-content/uploads/2018/09/miniatura-web-espill.jpg
END:VEVENT
END:VCALENDAR