BEGIN:VCALENDAR
VERSION:2.0
PRODID:-//Ajuntament de Potries - ECPv4.6.26.1//NONSGML v1.0//EN
CALSCALE:GREGORIAN
METHOD:PUBLISH
X-WR-CALNAME:Ajuntament de Potries
X-ORIGINAL-URL:https://potries.org
X-WR-CALDESC:Events for Ajuntament de Potries
BEGIN:VEVENT
DTSTART;TZID=UTC+2:20180921T200000
DTEND;TZID=UTC+2:20181003T200000
DTSTAMP:20260422T193549
CREATED:20180917T094801Z
LAST-MODIFIED:20180926T111649Z
UID:10677-1537560000-1538596800@potries.org
SUMMARY:EXPOSICIÓ COGNOM AVARIA
DESCRIPTION:El proper divendres dia 21 de setembre a les 20:00 h de la vesprada\, a la Casa de l’Ajuntament\, s’inaugurarà l’exposició de l’arbre genealògic del cognom Avaria. \nEs podrà visitar de 11:00 h a 15:00 h. Per a visites de vesprada o cap de setmana\, posar-se en contacte amb l’autora\, Isabel Avaria\, o l’ajuntament. \n \n \n
URL:https://potries.org/event/exposicio-cognom-avaria/
LOCATION:Plaça Ajuntament
CATEGORIES:ACTIVIDAD,Activitats,EVENT
ATTACH;FMTTYPE=image/jpeg:https://potries.org/wp-content/uploads/2018/09/avaria.jpg
END:VEVENT
BEGIN:VEVENT
DTSTART;TZID=UTC+2:20180928T170000
DTEND;TZID=UTC+2:20180929T000000
DTSTAMP:20260422T193549
CREATED:20180829T081306Z
LAST-MODIFIED:20180919T100840Z
UID:10232-1538154000-1538179200@potries.org
SUMMARY:"EUROPEAN RESEARCHERS NIGHT" - NIT EUROPEA DE LA INVESTIGACIÓ
DESCRIPTION:Per primera vegada celebrem la Nit Europea de la Investigació a  POTRIES. Es tracta d’un projecte promogut per la Comissió Europea amb l’objectiu principal d’acostar a la ciutadania la part més humana de la ciència\, donant a conéixer els beneficis que aporta a la societat i la repercussió del seu treball en la vida quotidiana. \nPROGRAMACIÓ \n17:00 h.- Ruta d’investigació de camp en el riu Serpis guiada per l’ambientòleg Ismael Aznar.  Amb l’ajuda de pistes i endevinalles\, identificarem i interpretarem diferents elements de l’entorn que formen part de l’ecosistema fluvial. \n18:30 h.- Berenar per als participants a la plaça del Cup (a les portes del Museu). \n19:00h.- Tallers científics per a escolars i joves relacionats amb el treball que es realitza en Citrosol; empresa líder en tractaments post-collita (al Museu Cassoleria d’Àngel Domínguez). \n\nPer què es podreix la fruita?\n\nEl podrit en la fruita\, conseqüències i formes de controlar-ho. Identificació de fongs patògens causants del podrit per observació visual i al microscopi.\nTaller a càrrec de: Dra. Celia Murcià (biòloga) i Na. Inma Navarro (biòloga). \n\nPer què brillen els cítrics?\n\nLa importància de la pell i la necessitat de l’encerat per a aportar lluentor i protecció. Encerat de fruits i mesura de les seues propietats físiques amb un texturòmetre.  Taller a càrrec de: Dr. Rafael Torregrosa(químic) i Na. María José Isnardo (química). \n\nPer què podem recol·lectar cítrics encara verds?\n\nMaduresa i moment de la recol·lecció en cítrics. Canvis en el color i sabor. Mesura de l’acidesa i contingut en sucre en fruits cítrics i determinació del seu estat de maduresa interna per a decidir el moment òptim de recol·lecció.\nTaller a càrrec de: Dr. Javier Parra (químic) i D. Ismael Aznar (ambientòleg). \n21:30 h.- Sopar per a les participants al Parc de la Concòrdia. \n23:00h.- Taller astronòmic a càrrec de l’Associació AstroSafor al Parc de la Concòrdia. \n
URL:https://potries.org/event/nit-de-la-ciencia-europea/
LOCATION:Plaça Ajuntament
CATEGORIES:ACTIVIDAD,Activitats,EVENT
ATTACH;FMTTYPE=image/jpeg:https://potries.org/wp-content/uploads/2018/08/2776-02-reduit.jpg
END:VEVENT
BEGIN:VEVENT
DTSTART;VALUE=DATE:20180929
DTEND;VALUE=DATE:20180930
DTSTAMP:20260422T193549
CREATED:20180903T120943Z
LAST-MODIFIED:20180907T125715Z
UID:10293-1538179200-1538265599@potries.org
SUMMARY:EXCURSIÓ MARINA ALTA
DESCRIPTION:L’Associació de Jubilats\, Jubilades i Pensionistes de Potries organitza una excursió a la Marina Alta. L’eixida serà des de Potries a les 8:30 hores. \nEl període de subscripció romandrà obert fins al 25 de setembre\, al local dels pensionistes\, de 17:30 a 20:00 hores i el Preu és de 6€ (inclou la participació en la rifa). \nPrograma d’activitats: \n\nArribada Pedreguer\, on desdejunarem\nParticipació en la demostració i rifa d’un matalaf viscoelàstic\nDinar: 1r Plat\, 2n Plat\, beguda i postre\nBall\nVisita al Club nàutic i port pesquer de Dénia\nVisita al Museu del joguet\nTornada a Potries\n\n \n
URL:https://potries.org/event/excursio-marina-alta/
CATEGORIES:ACTIVIDAD,Activitats,EVENT
ATTACH;FMTTYPE=image/jpeg:https://potries.org/wp-content/uploads/2018/09/beach-2179183__340.jpg
END:VEVENT
END:VCALENDAR