BEGIN:VCALENDAR
VERSION:2.0
PRODID:-//Ajuntament de Potries - ECPv4.6.26.1//NONSGML v1.0//EN
CALSCALE:GREGORIAN
METHOD:PUBLISH
X-WR-CALNAME:Ajuntament de Potries
X-ORIGINAL-URL:https://potries.org
X-WR-CALDESC:Events for Ajuntament de Potries
BEGIN:VEVENT
DTSTART;TZID=UTC+2:20180921T200000
DTEND;TZID=UTC+2:20181003T200000
DTSTAMP:20260422T222310
CREATED:20180917T094801Z
LAST-MODIFIED:20180926T111649Z
UID:10677-1537560000-1538596800@potries.org
SUMMARY:EXPOSICIÓ COGNOM AVARIA
DESCRIPTION:El proper divendres dia 21 de setembre a les 20:00 h de la vesprada\, a la Casa de l’Ajuntament\, s’inaugurarà l’exposició de l’arbre genealògic del cognom Avaria. \nEs podrà visitar de 11:00 h a 15:00 h. Per a visites de vesprada o cap de setmana\, posar-se en contacte amb l’autora\, Isabel Avaria\, o l’ajuntament. \n \n \n
URL:https://potries.org/event/exposicio-cognom-avaria/
LOCATION:Plaça Ajuntament
CATEGORIES:ACTIVIDAD,Activitats,EVENT
ATTACH;FMTTYPE=image/jpeg:https://potries.org/wp-content/uploads/2018/09/avaria.jpg
END:VEVENT
END:VCALENDAR