BEGIN:VCALENDAR
VERSION:2.0
PRODID:-//Ajuntament de Potries - ECPv4.6.26.1//NONSGML v1.0//EN
CALSCALE:GREGORIAN
METHOD:PUBLISH
X-WR-CALNAME:Ajuntament de Potries
X-ORIGINAL-URL:https://potries.org
X-WR-CALDESC:Events for Ajuntament de Potries
BEGIN:VEVENT
DTSTART;TZID=UTC+2:20180917T153000
DTEND;TZID=UTC+2:20180917T170000
DTSTAMP:20260423T130034
CREATED:20180913T121101Z
LAST-MODIFIED:20180917T095903Z
UID:10626-1537198200-1537203600@potries.org
SUMMARY:TALLER DE LA MEMÒRIA
DESCRIPTION:Et costa recordar les coses o les oblides amb facilitat? \nDoncs no et preocupes! Podràs assistir cada dilluns (fins juny 2019) al Taller de la memòria que oferim en la llar de jubilats i jubilades. \nT’esperem en el primer taller aquest dilluns 17. \n \n
URL:https://potries.org/event/taller-de-la-memoria/
CATEGORIES:ACTIVIDAD,Activitats,EVENT
ATTACH;FMTTYPE=image/jpeg:https://potries.org/wp-content/uploads/2018/09/TALLER-DE-LA-MEMORIA.jpg
END:VEVENT
END:VCALENDAR