BEGIN:VCALENDAR
VERSION:2.0
PRODID:-//Ajuntament de Potries - ECPv4.6.26.1//NONSGML v1.0//EN
CALSCALE:GREGORIAN
METHOD:PUBLISH
X-WR-CALNAME:Ajuntament de Potries
X-ORIGINAL-URL:https://potries.org
X-WR-CALDESC:Events for Ajuntament de Potries
BEGIN:VEVENT
DTSTART;TZID=UTC+2:20180915T210000
DTEND;TZID=UTC+2:20180915T230000
DTSTAMP:20260423T161726
CREATED:20180903T120458Z
LAST-MODIFIED:20180911T110600Z
UID:10289-1537045200-1537052400@potries.org
SUMMARY:ACTUACIÓ DEL COR DE LA GENERALITAT VALENCIANA
DESCRIPTION:\nCelebrat amb motiu de la Capitalitat Cultural Valenciana\, el dissabte 15 de setembre\, a les 21.00 h en l’Església dels Sants Joans de Potries\, tindrà lloc el concert extraordinari del Cor de la Generalitat Valenciana\, esdeveniment únic ja que sols es realitzarà a Castelló\, Sagunt i Potries.\n\n\n \n\n\nConeguts com el cor titular del Palau de les Arts al mateix temps que desenvolupen una constant activitat en els principals auditoris de la Comunitat Valenciana\, i dirigits per Francesc Perales\, ens oferiran un concert en reconeixement a la figura de la compositora castellonenca Matilde Salvador\, l’any que celebrem el centenari del seu naixement.\n\n\n\n\n\n\n\n
URL:https://potries.org/event/actuacio-del-cor-de-la-generalitat-valenciana/
CATEGORIES:ACTIVIDAD,Activitats,EVENT
ATTACH;FMTTYPE=image/jpeg:https://potries.org/wp-content/uploads/2018/09/kb.jpg
END:VEVENT
END:VCALENDAR