BEGIN:VCALENDAR
VERSION:2.0
PRODID:-//Ajuntament de Potries - ECPv4.6.26.1//NONSGML v1.0//EN
CALSCALE:GREGORIAN
METHOD:PUBLISH
X-WR-CALNAME:Ajuntament de Potries
X-ORIGINAL-URL:https://potries.org
X-WR-CALDESC:Events for Ajuntament de Potries
BEGIN:VEVENT
DTSTART;TZID=UTC+2:20180810T200000
DTEND;TZID=UTC+2:20180831T143000
DTSTAMP:20260425T132410
CREATED:20180809T121647Z
LAST-MODIFIED:20180809T122241Z
UID:9823-1533931200-1535725800@potries.org
SUMMARY:EXPOSICIÓ ANTOLOGIA DE PINTURES D'ALFRED MIRALLES
DESCRIPTION:Es podrà visitar a l’Ajuntament de Potries de 11:00 a 14:30 h. Per a vesprades i cap de setmana\, posar-se en contacte amb l’autor o l’Ajuntament. \n  \n  \n  \n
URL:https://potries.org/event/exposicio-antologia-de-pintures-dalfred-miralles/
CATEGORIES:ACTIVIDAD,Activitats,EVENT
ATTACH;FMTTYPE=image/jpeg:https://potries.org/wp-content/uploads/2018/08/destacada-expo-1.jpg
END:VEVENT
BEGIN:VEVENT
DTSTART;TZID=UTC+2:20180817T080000
DTEND;TZID=UTC+2:20180820T233000
DTSTAMP:20260425T132410
CREATED:20180628T221329Z
LAST-MODIFIED:20180628T222115Z
UID:8654-1534492800-1534807800@potries.org
SUMMARY:Festival “POTRIES #musicfest”
DESCRIPTION:L’acurada i aventurada programació de “POTRIES #musicfest” transcendeix les tradicionals divisions entre gèneres i formats musicals per focalitzar l’experiència del públic en el pur gaudi de l’emoció de la música en directe\, sempre en localitzacions fascinants tant històriques com naturals. \nPresentació del Festival: Ausiàs Garrigós. \nWeb oficial \n
URL:https://potries.org/event/festival-potries-musicfest/
CATEGORIES:ACTIVIDAD,Activitats,EVENT
ATTACH;FMTTYPE=image/jpeg:https://potries.org/wp-content/uploads/2018/06/Borja-NP.jpg
END:VEVENT
END:VCALENDAR