BEGIN:VCALENDAR
VERSION:2.0
PRODID:-//Ajuntament de Potries - ECPv4.6.26.1//NONSGML v1.0//EN
CALSCALE:GREGORIAN
METHOD:PUBLISH
X-WR-CALNAME:Ajuntament de Potries
X-ORIGINAL-URL:https://potries.org
X-WR-CALDESC:Events for Ajuntament de Potries
BEGIN:VEVENT
DTSTART;TZID=UTC+2:20180807T160000
DTEND;TZID=UTC+2:20180810T163000
DTSTAMP:20260426T030528
CREATED:20180731T101626Z
LAST-MODIFIED:20180731T102331Z
UID:9441-1533657600-1533918600@potries.org
SUMMARY:Campionat de Billar: Setmana Cultural i Esportiva
DESCRIPTION: \n \n
URL:https://potries.org/event/campionat-de-billar-setmana-cultural-i-esportiva/
LOCATION:Casa de la Cultura\, Jaume I\, 59\, Potries\, Valencia\, 46721\, España
CATEGORIES:ACTIVIDAD,Activitats,EVENT
ATTACH;FMTTYPE=image/jpeg:https://potries.org/wp-content/uploads/2018/07/billar.jpeg
END:VEVENT
BEGIN:VEVENT
DTSTART;TZID=UTC+2:20180807T190000
DTEND;TZID=UTC+2:20180814T190000
DTSTAMP:20260426T030528
CREATED:20180731T100633Z
LAST-MODIFIED:20180731T100633Z
UID:9428-1533668400-1534273200@potries.org
SUMMARY:Campionat de Petanca: Setmana Cultural i Esportiva
DESCRIPTION: \n \n
URL:https://potries.org/event/campionat-de-petanca-setmana-cultural-i-esportiva/
LOCATION:Poliesportiu Municipal\, 4\,\, Polígono Equip Deportivo\, 2\,\, Potries\, Valencia\, 46721\, España
CATEGORIES:ACTIVIDAD,Activitats,EVENT
ATTACH;FMTTYPE=image/jpeg:https://potries.org/wp-content/uploads/2018/07/petanca.jpeg
END:VEVENT
BEGIN:VEVENT
DTSTART;TZID=UTC+2:20180807T200000
DTEND;TZID=UTC+2:20180814T200000
DTSTAMP:20260426T030528
CREATED:20180731T101222Z
LAST-MODIFIED:20180731T102408Z
UID:9435-1533672000-1534276800@potries.org
SUMMARY:Campionat de Frontenis: Setmana Cultural i Esportiva
DESCRIPTION: \n \n
URL:https://potries.org/event/campionat-de-frontenis-setmana-cultural-i-esportiva/
LOCATION:Poliesportiu Municipal\, 4\,\, Polígono Equip Deportivo\, 2\,\, Potries\, Valencia\, 46721\, España
CATEGORIES:ACTIVIDAD,Activitats,EVENT
ATTACH;FMTTYPE=image/jpeg:https://potries.org/wp-content/uploads/2018/07/frontenis.jpeg
END:VEVENT
BEGIN:VEVENT
DTSTART;TZID=UTC+2:20180808T180000
DTEND;TZID=UTC+2:20180808T193000
DTSTAMP:20260426T030528
CREATED:20180802T094531Z
LAST-MODIFIED:20180802T094531Z
UID:9579-1533751200-1533756600@potries.org
SUMMARY:BIBLIOPISCINA
DESCRIPTION:
URL:https://potries.org/event/bibliopiscina/
LOCATION:Piscina Potries\, Poliesportiu Municipal\, POTRIES\, Valencia\, 46721
CATEGORIES:ACTIVIDAD,Activitats,EVENT
ATTACH;FMTTYPE=image/jpeg:https://potries.org/wp-content/uploads/2018/08/bibliopiscina-destacada.jpg
END:VEVENT
BEGIN:VEVENT
DTSTART;TZID=UTC+2:20180808T183000
DTEND;TZID=UTC+2:20180808T193000
DTSTAMP:20260426T030528
CREATED:20180724T110142Z
LAST-MODIFIED:20180731T104205Z
UID:9266-1533753000-1533756600@potries.org
SUMMARY:CONTACONTES A LA PISCINA MUNICIPAL
DESCRIPTION:Conta-contes a la piscina municipal. \nDimecres 8 d’agost a les 18.30 h. \nRecordeu que també tindrem servei de bibliopiscina. \n\nCuenta-cuentos en la piscina municipal. \nMiércoles 8 de agosto a las 18.30 h. \nRecordad que también tendremos servicio de bibliopiscina. \n  \n\nStory teller in the municipal pool. \nWednesday August 8 at 18.30 h. \nRemember that we will also have a library service in the swimming pool. \n
URL:https://potries.org/event/contacontes-a-la-piscina-municipal/
LOCATION:Piscina Potries\, Poliesportiu Municipal\, POTRIES\, Valencia\, 46721
CATEGORIES:ACTIVIDAD,Activitats,EVENT
ATTACH;FMTTYPE=image/png:https://potries.org/wp-content/uploads/2018/07/CONTACONTES-PISCINA-destacada.png
END:VEVENT
END:VCALENDAR